BEGIN:VCALENDAR
VERSION:2.0
PRODID:SchoolNow
CALSCALE:GREGORIAN
BEGIN:VEVENT
UID:8e5c60be-518c-11ee-89e8-0a58a9feac02
DTSTAMP:20231024T140749Z
SUMMARY:Budget Hearing\, Roosevelt LLC (immediately preceding board meeting
 )
URL;VALUE=URI:https://www.district90.org/wes/calendar/4723389/budget-hearin
 g-roosevelt-llc-immediately-preceding-board-meeting
DTSTART:20230919T000000Z
DTEND:20230919T001000Z
END:VEVENT
END:VCALENDAR
