BEGIN:VCALENDAR
VERSION:2.0
PRODID:SchoolNow
CALSCALE:GREGORIAN
BEGIN:VEVENT
UID:b77e13ce-1132-11ee-895a-0a6006a20b37
DTSTAMP:20230719T153659Z
SUMMARY:Special Meeting - Finance
URL;VALUE=URI:https://www.district90.org/wes/calendar/4422624/special-meeti
 ng-finance-resolution
DTSTART:20230628T003000Z
DTEND:20230628T013000Z
END:VEVENT
END:VCALENDAR
