BEGIN:VCALENDAR
VERSION:2.0
PRODID:SchoolNow
CALSCALE:GREGORIAN
BEGIN:VEVENT
UID:50942318-0aef-11ee-8aab-0e9688f49105
DTSTAMP:20231223T041148Z
SUMMARY:Board of Education Meeting\, Roosevelt Middle School and Virtual
URL;VALUE=URI:https://www.district90.org/wes/calendar/4389173/board-of-educ
 ation-meeting-roosevelt-middle-school-and-virtual
DTSTART:20231121T010000Z
DTEND:20231121T020000Z
END:VEVENT
END:VCALENDAR
