BEGIN:VCALENDAR
VERSION:2.0
PRODID:SchoolNow
CALSCALE:GREGORIAN
BEGIN:VEVENT
UID:d42ca2ee-0aeb-11ee-8c4c-0a99037e7545
DTSTAMP:20230922T184046Z
SUMMARY:Committee of the Whole Meeting\, Roosevelt Middle School and Virtua
 l
URL;VALUE=URI:https://www.district90.org/wes/calendar/4389150/committee-of-
 the-whole-meeting-roosevelt-middle-school-and-virtual
DTSTART:20230906T000000Z
DTEND:20230906T010000Z
END:VEVENT
END:VCALENDAR
