BEGIN:VCALENDAR
VERSION:2.0
PRODID:SchoolNow
CALSCALE:GREGORIAN
BEGIN:VEVENT
UID:df41875a-ab53-11ed-8116-0e9b58085e11
DTSTAMP:20230517T160742Z
SUMMARY:Board of Education Meeting\, Roosevelt Middle School and Virtual
URL;VALUE=URI:https://www.district90.org/wes/calendar/3740526/board-of-educ
 ation-meeting-roosevelt-middle-school-and-virtual
DTSTART:20230418T000000Z
DTEND:20230418T013000Z
END:VEVENT
END:VCALENDAR
