BEGIN:VCALENDAR
VERSION:2.0
PRODID:SchoolNow
CALSCALE:GREGORIAN
BEGIN:VEVENT
UID:8edffc74-ab53-11ed-b773-0e9b58085e11
DTSTAMP:20230419T164127Z
SUMMARY:Committee of the Whole\, Roosevelt Middle School and Virtual
URL;VALUE=URI:https://www.district90.org/wes/calendar/3740522/committee-of-
 the-whole-roosevelt-middle-school-and-virtual
DTSTART:20230405T000000Z
DTEND:20230405T013000Z
END:VEVENT
END:VCALENDAR
