BEGIN:VCALENDAR
VERSION:2.0
PRODID:SchoolNow
CALSCALE:GREGORIAN
BEGIN:VEVENT
UID:4429c3fe-ab53-11ed-ba10-0e9b58085e11
DTSTAMP:20230323T162144Z
SUMMARY:Committee of the Whole Meeting\, Roosevelt Middle School and Virtua
 l
URL;VALUE=URI:https://www.district90.org/wes/calendar/3740517/committee-of-
 the-whole-meeting
DTSTART:20230208T010000Z
DTEND:20230208T023000Z
END:VEVENT
END:VCALENDAR
