BEGIN:VCALENDAR
VERSION:2.0
PRODID:SchoolNow
CALSCALE:GREGORIAN
BEGIN:VEVENT
UID:4f24d4e8-ab52-11ed-bd4d-0e9b58085e11
DTSTAMP:20230323T162130Z
SUMMARY:Board of Education Meeting\, Roosevelt Middle School and Virtual
URL;VALUE=URI:https://www.district90.org/wes/calendar/3740503/board-of-educ
 ation
DTSTART:20230222T010000Z
DTEND:20230222T023000Z
END:VEVENT
END:VCALENDAR
