BEGIN:VCALENDAR
VERSION:2.0
PRODID:SchoolNow
CALSCALE:GREGORIAN
BEGIN:VEVENT
UID:78496944-6843-11ed-8583-0a7bf597de97
DTSTAMP:20230125T171618Z
SUMMARY:Committee of the Whole\, Roosevelt Middle School & Virtual
URL;VALUE=URI:https://www.district90.org/wes/calendar/3618309/committee-of-
 the-whole-roosevelt-middle-school-virtual
DTSTART:20221207T010000Z
DTEND:20221207T023000Z
END:VEVENT
END:VCALENDAR
