BEGIN:VCALENDAR
VERSION:2.0
PRODID:SchoolNow
CALSCALE:GREGORIAN
BEGIN:VEVENT
UID:366598e8-0152-11ed-985f-0a5c34d56f71
DTSTAMP:20220920T204559Z
SUMMARY:Board of Education\, Roosevelt Middle School & Virtual
URL;VALUE=URI:https://www.district90.org/wes/calendar/3240786/board-of-educ
 ation-roosevelt-middle-school-virtual
DTSTART:20220815T230000Z
DTEND:20220816T003000Z
END:VEVENT
END:VCALENDAR
