BEGIN:VCALENDAR
VERSION:2.0
PRODID:SchoolNow
CALSCALE:GREGORIAN
BEGIN:VEVENT
UID:2c6b7078-a3e9-11f0-ac95-0ed7137b6995
DTSTAMP:20260419T205010Z
SUMMARY:Boys' Basketball Game @ Irving
LOCATION:Irving Middle School\, 805 S 17th Ave\, Maywood\, IL 60153\, USA
URL;VALUE=URI:https://www.district90.org/rms/calendar/8704030/boys-basketba
 ll-game-irving
DTSTART:20260107T223000Z
DTEND:20260108T003000Z
END:VEVENT
END:VCALENDAR
