BEGIN:VCALENDAR
VERSION:2.0
PRODID:SchoolNow
CALSCALE:GREGORIAN
BEGIN:VEVENT
UID:64171642-0af5-11ee-ad10-0243d8b697e3
DTSTAMP:20240221T163316Z
SUMMARY:Board of Education Meeting\, Roosevelt Middle School and Virtual
URL;VALUE=URI:https://www.district90.org/rms/calendar/4389245/board-of-educ
 ation-meeting-roosevelt-middle-school-and-virtual
DTSTART:20240618T000000Z
DTEND:20240618T010000Z
END:VEVENT
END:VCALENDAR
