BEGIN:VCALENDAR
VERSION:2.0
PRODID:SchoolNow
CALSCALE:GREGORIAN
BEGIN:VEVENT
UID:dbaa6c3c-0af4-11ee-9fdc-0e9688f49105
DTSTAMP:20240221T163301Z
SUMMARY:Committee of the Whole Meeting\, Roosevelt Middle School and Virtua
 l
URL;VALUE=URI:https://www.district90.org/rms/calendar/4389240/committee-of-
 the-whole-meeting-roosevelt-middle-school-and-virtual
DTSTART:20240605T000000Z
DTEND:20240605T010000Z
END:VEVENT
END:VCALENDAR
