BEGIN:VCALENDAR
VERSION:2.0
PRODID:SchoolNow
CALSCALE:GREGORIAN
BEGIN:VEVENT
UID:c4a6ff52-0af2-11ee-b49f-0e9688f49105
DTSTAMP:20240221T163159Z
SUMMARY:Committee of the Whole Meeting\, Roosevelt Middle School and Virtua
 l
URL;VALUE=URI:https://www.district90.org/rms/calendar/4389221/committee-of-
 the-whole-meeting-roosevelt-middle-school-and-virtual
DTSTART:20240403T000000Z
DTEND:20240403T010000Z
END:VEVENT
END:VCALENDAR
