BEGIN:VCALENDAR
VERSION:2.0
PRODID:SchoolNow
CALSCALE:GREGORIAN
BEGIN:VEVENT
UID:ca7b6450-0af1-11ee-8edb-0e9688f49105
DTSTAMP:20240321T020945Z
SUMMARY:Committee of the Whole Meeting\, Roosevelt Middle School and Virtua
 l
URL;VALUE=URI:https://www.district90.org/rms/calendar/4389211/committee-of-
 the-whole-meeting-roosevelt-middle-school-and-virtual
DTSTART:20240306T010000Z
DTEND:20240306T020000Z
END:VEVENT
END:VCALENDAR
