BEGIN:VCALENDAR
VERSION:2.0
PRODID:SchoolNow
CALSCALE:GREGORIAN
BEGIN:VEVENT
UID:15da408e-0af1-11ee-8870-0e9688f49105
DTSTAMP:20240221T172337Z
SUMMARY:Committee of the Whole Meeting\, Roosevelt Middle School and Virtua
 l
URL;VALUE=URI:https://www.district90.org/rms/calendar/4389205/committee-of-
 the-whole-meeting-roosevelt-middle-school-and-virtual
DTSTART:20240207T010000Z
DTEND:20240207T020000Z
END:VEVENT
END:VCALENDAR
