BEGIN:VCALENDAR
VERSION:2.0
PRODID:SchoolNow
CALSCALE:GREGORIAN
BEGIN:VEVENT
UID:6863a9b8-0af0-11ee-a3e7-0e9688f49105
DTSTAMP:20240130T213203Z
SUMMARY:Committee of the Whole Meeting\, Roosevelt Middle School and Virtua
 l
URL;VALUE=URI:https://www.district90.org/rms/calendar/4389195/committee-of-
 the-whole-meeting-roosevelt-middle-school-and-virtual
DTSTART:20240110T010000Z
DTEND:20240110T020000Z
END:VEVENT
END:VCALENDAR
