BEGIN:VCALENDAR
VERSION:2.0
PRODID:SchoolNow
CALSCALE:GREGORIAN
BEGIN:VEVENT
UID:5e9c353e-3df7-11f1-a2d4-0efed69dade7
DTSTAMP:20260422T030007Z
SUMMARY:Board of Education Meeting Roosevelt Middle School
URL;VALUE=URI:https://www.district90.org/calendar/9010232/board-of-educatio
 n-meeting-roosevelt-middle-school
DTSTART:20271222T010000Z
DTEND:20271222T020000Z
END:VEVENT
END:VCALENDAR
