BEGIN:VCALENDAR
VERSION:2.0
PRODID:SchoolNow
CALSCALE:GREGORIAN
BEGIN:VEVENT
UID:a52f0814-f17f-11e7-8cc7-122f978d8488
DTSTAMP:20180201T190931Z
SUMMARY:Board of Education Meeting\, Roosevelt LLC
URL;VALUE=URI:https://www.district90.org/boe/past-meetings-minutes/calendar
 /1685314/board-of-education-meeting-roosevelt-llc
DTSTART:20171219T010000Z
DTEND:20171219T030000Z
END:VEVENT
END:VCALENDAR
