BEGIN:VCALENDAR
VERSION:2.0
PRODID:SchoolNow
CALSCALE:GREGORIAN
BEGIN:VEVENT
UID:9782f4d2-164c-11ec-b1c4-0214ef3c6c2f
DTSTAMP:20211019T150018Z
SUMMARY:Budget Hearing\, Roosevelt School & Virtual
URL;VALUE=URI:https://www.district90.org/boe/calendar/2739257/budget-hearin
 g-roosevelt-school-virtual
DTSTART:20210921T000000Z
DTEND:20210921T000500Z
END:VEVENT
END:VCALENDAR
