BEGIN:VCALENDAR
VERSION:2.0
PRODID:SchoolNow
CALSCALE:GREGORIAN
BEGIN:VEVENT
UID:82fa6ec0-eb07-11eb-917f-0acf6ed0e93b
DTSTAMP:20210819T010659Z
SUMMARY:Budget Meeting\, Roosevelt School & Virtual
URL;VALUE=URI:https://www.district90.org/boe/calendar/2645502/budget-meetin
 g-roosevelt-school-virtual
DTSTART:20210726T230000Z
DTEND:20210726T231500Z
END:VEVENT
END:VCALENDAR
