BEGIN:VCALENDAR
VERSION:2.0
PRODID:SchoolNow
CALSCALE:GREGORIAN
BEGIN:VEVENT
UID:7afe802c-e408-11eb-912a-02463c07ad47
DTSTAMP:20220119T205920Z
SUMMARY:Board of Education Meeting\, Roosevelt School & Virtual
URL;VALUE=URI:https://www.district90.org/boe/calendar/2638336/board-of-educ
 ation-meeting-roosevelt-school-virtual
DTSTART:20211214T010000Z
DTEND:20211214T030000Z
END:VEVENT
END:VCALENDAR
