BEGIN:VCALENDAR
VERSION:2.0
PRODID:SchoolNow
CALSCALE:GREGORIAN
BEGIN:VEVENT
UID:334c99b2-e408-11eb-854c-02463c07ad47
DTSTAMP:20211215T200315Z
SUMMARY:Committee of the Whole Meeting\, Roosevelt School & Virtual
URL;VALUE=URI:https://www.district90.org/boe/calendar/2638335/committee-of-
 the-whole-meeting-roosevelt-school-virtual
DTSTART:20211208T020000Z
DTEND:20211208T030000Z
END:VEVENT
END:VCALENDAR
