BEGIN:VCALENDAR
VERSION:2.0
PRODID:SchoolNow
CALSCALE:GREGORIAN
BEGIN:VEVENT
UID:86ebc1ac-e407-11eb-85cb-02463c07ad47
DTSTAMP:20211215T200439Z
SUMMARY:Board of Education Meeting\, Roosevelt School & Virtual
URL;VALUE=URI:https://www.district90.org/boe/calendar/2638334/board-of-educ
 ation-meeting-roosevelt-school-virtual
DTSTART:20211116T010000Z
DTEND:20211116T030000Z
END:VEVENT
END:VCALENDAR
