BEGIN:VCALENDAR
VERSION:2.0
PRODID:SchoolNow
CALSCALE:GREGORIAN
BEGIN:VEVENT
UID:2e1e97b6-e407-11eb-9ede-02463c07ad47
DTSTAMP:20211116T182457Z
SUMMARY:Committee of the Whole Meeting\, Roosevelt School & Virtual
URL;VALUE=URI:https://www.district90.org/boe/calendar/2638331/committee-of-
 the-whole-meeting-roosevelt-school-virtual
DTSTART:20211103T000000Z
DTEND:20211103T020000Z
END:VEVENT
END:VCALENDAR
