BEGIN:VCALENDAR
VERSION:2.0
PRODID:SchoolNow
CALSCALE:GREGORIAN
BEGIN:VEVENT
UID:41bf41a4-e3e3-11eb-a761-0ae4b0ac914d
DTSTAMP:20211116T182409Z
SUMMARY:Board of Education Meeting\, Roosevelt School & Virtual
URL;VALUE=URI:https://www.district90.org/boe/calendar/2637932/board-of-educ
 ation-meeting-roosevelt-school-virtual
DTSTART:20211019T000000Z
DTEND:20211019T020000Z
END:VEVENT
END:VCALENDAR
