BEGIN:VCALENDAR
VERSION:2.0
PRODID:SchoolNow
CALSCALE:GREGORIAN
BEGIN:VEVENT
UID:033f4bfe-e3e3-11eb-8119-0ae4b0ac914d
DTSTAMP:20211019T150354Z
SUMMARY:Committee of the Whole Meeting\, Roosevelt School & Virtual
URL;VALUE=URI:https://www.district90.org/boe/calendar/2637931/committee-of-
 the-whole-meeting-roosevelt-school-virtual
DTSTART:20211006T000000Z
DTEND:20211006T020000Z
END:VEVENT
END:VCALENDAR
