BEGIN:VCALENDAR
VERSION:2.0
PRODID:SchoolNow
CALSCALE:GREGORIAN
BEGIN:VEVENT
UID:884f5e02-e3e2-11eb-b848-0ae4b0ac914d
DTSTAMP:20211019T150154Z
SUMMARY:Board of Education Meeting\, Roosevelt School & Virtual
URL;VALUE=URI:https://www.district90.org/boe/calendar/2637930/board-of-educ
 ation-meeting-roosevelt-school-virtual
DTSTART:20210921T000500Z
DTEND:20210921T020500Z
END:VEVENT
END:VCALENDAR
