BEGIN:VCALENDAR
VERSION:2.0
PRODID:SchoolNow
CALSCALE:GREGORIAN
BEGIN:VEVENT
UID:bcf9dbf6-e3e1-11eb-a8f5-0ae4b0ac914d
DTSTAMP:20210923T201828Z
SUMMARY:Board of Education Meeting\, Roosevelt School & Virtual
URL;VALUE=URI:https://www.district90.org/boe/calendar/2637928/board-of-educ
 ation-meeting-roosevelt-school-virtual
DTSTART:20210816T230000Z
DTEND:20210817T003000Z
END:VEVENT
END:VCALENDAR
