BEGIN:VCALENDAR
VERSION:2.0
PRODID:SchoolNow
CALSCALE:GREGORIAN
BEGIN:VEVENT
UID:ed53b3d6-55ec-11eb-8531-0ead37c4f82b
DTSTAMP:20210811T203637Z
SUMMARY:Board of Education Meeting\, Virtual
URL;VALUE=URI:https://www.district90.org/boe/calendar/2524994/board-of-educ
 ation-meeting-virtual
DTSTART:20210615T000000Z
DTEND:20210615T020000Z
END:VEVENT
END:VCALENDAR
