BEGIN:VCALENDAR
VERSION:2.0
PRODID:SchoolNow
CALSCALE:GREGORIAN
BEGIN:VEVENT
UID:0f3a2652-55ec-11eb-a942-02df31685291
DTSTAMP:20210616T160119Z
SUMMARY:Board of Education Meeting\, Virtual
URL;VALUE=URI:https://www.district90.org/boe/calendar/2524911/board-of-educ
 ation-meeting-virtual
DTSTART:20210518T000000Z
DTEND:20210518T020000Z
END:VEVENT
END:VCALENDAR
