BEGIN:VCALENDAR
VERSION:2.0
PRODID:SchoolNow
CALSCALE:GREGORIAN
BEGIN:VEVENT
UID:ad5785ba-55eb-11eb-8b2f-02df31685291
DTSTAMP:20210604T203435Z
SUMMARY:Special Board of Education and Reorganization Meeting\, Virtual
URL;VALUE=URI:https://www.district90.org/boe/calendar/2524875/committee-of-
 the-whole-meeting-virtual
DTSTART:20210504T000000Z
DTEND:20210504T020000Z
END:VEVENT
END:VCALENDAR
