BEGIN:VCALENDAR
VERSION:2.0
PRODID:SchoolNow
CALSCALE:GREGORIAN
BEGIN:VEVENT
UID:878412ae-55eb-11eb-b55a-02df31685291
DTSTAMP:20210604T203044Z
SUMMARY:Board of Education Meeting\, Virtual
URL;VALUE=URI:https://www.district90.org/boe/calendar/2524871/board-of-educ
 ation-meeting-virtual
DTSTART:20210420T000000Z
DTEND:20210420T020000Z
END:VEVENT
END:VCALENDAR
