BEGIN:VCALENDAR
VERSION:2.0
PRODID:SchoolNow
CALSCALE:GREGORIAN
BEGIN:VEVENT
UID:3f7b83a2-55eb-11eb-a0cd-02df31685291
DTSTAMP:20210604T202953Z
SUMMARY:Committee of the Whole Meeting\, Virtual
URL;VALUE=URI:https://www.district90.org/boe/calendar/2524870/committee-of-
 the-whole-meeting-virtual
DTSTART:20210407T000000Z
DTEND:20210407T020000Z
END:VEVENT
END:VCALENDAR
