BEGIN:VCALENDAR
VERSION:2.0
PRODID:SchoolNow
CALSCALE:GREGORIAN
BEGIN:VEVENT
UID:19d3aab2-55eb-11eb-805f-02df31685291
DTSTAMP:20210604T202851Z
SUMMARY:Board of Education Meeting\, Virtual
URL;VALUE=URI:https://www.district90.org/boe/calendar/2524869/board-of-educ
 ation-meeting-virtual
DTSTART:20210316T000000Z
DTEND:20210316T020000Z
END:VEVENT
END:VCALENDAR
