BEGIN:VCALENDAR
VERSION:2.0
PRODID:SchoolNow
CALSCALE:GREGORIAN
BEGIN:VEVENT
UID:f1630e38-55ea-11eb-ba7c-02df31685291
DTSTAMP:20210319T095531Z
SUMMARY:Committee of the Whole Meeting\, Virtual
URL;VALUE=URI:https://www.district90.org/boe/calendar/2524868/committee-of-
 the-whole-meeting-virtual
DTSTART:20210303T010000Z
DTEND:20210303T030000Z
END:VEVENT
END:VCALENDAR
