BEGIN:VCALENDAR
VERSION:2.0
PRODID:SchoolNow
CALSCALE:GREGORIAN
BEGIN:VEVENT
UID:cc21a3aa-55ea-11eb-8a19-02df31685291
DTSTAMP:20210319T095402Z
SUMMARY:Board of Education Meeting\, Virtual
URL;VALUE=URI:https://www.district90.org/boe/calendar/2524867/board-of-educ
 ation-meeting-virtual
DTSTART:20210217T010000Z
DTEND:20210217T030000Z
END:VEVENT
END:VCALENDAR
