BEGIN:VCALENDAR
VERSION:2.0
PRODID:SchoolNow
CALSCALE:GREGORIAN
BEGIN:VEVENT
UID:9fb3fa98-55ea-11eb-ad87-02df31685291
DTSTAMP:20210223T175145Z
SUMMARY:Committee of the Whole Meeting\, Virtual
URL;VALUE=URI:https://www.district90.org/boe/calendar/2524866/committee-of-
 the-whole-meeting-virtual
DTSTART:20210203T010000Z
DTEND:20210203T030000Z
END:VEVENT
END:VCALENDAR
