BEGIN:VCALENDAR
VERSION:2.0
PRODID:SchoolNow
CALSCALE:GREGORIAN
BEGIN:VEVENT
UID:776b64a4-55ea-11eb-9ee6-02df31685291
DTSTAMP:20210223T175243Z
SUMMARY:Board of Education Meeting\, Virtual
URL;VALUE=URI:https://www.district90.org/boe/calendar/2524865/board-of-educ
 ation-meeting-virtual
DTSTART:20210120T010000Z
DTEND:20210120T030000Z
END:VEVENT
END:VCALENDAR
