BEGIN:VCALENDAR
VERSION:2.0
PRODID:SchoolNow
CALSCALE:GREGORIAN
BEGIN:VEVENT
UID:64b07e0a-51f6-11eb-b09d-0a2d48a86ed7
DTSTAMP:20210121T171548Z
SUMMARY:Committee of the Whole Meeting\, Virtual
URL;VALUE=URI:https://www.district90.org/boe/calendar/2522065/committee-of-
 the-whole-virtual
DTSTART:20210113T010000Z
DTEND:20210113T030000Z
END:VEVENT
END:VCALENDAR
