BEGIN:VCALENDAR
VERSION:2.0
PRODID:SchoolNow
CALSCALE:GREGORIAN
BEGIN:VEVENT
UID:7f2a7bb8-f9eb-11ea-958b-0a676cea129b
DTSTAMP:20201021T174241Z
SUMMARY:Budget Hearing\, Virtual
URL;VALUE=URI:https://www.district90.org/boe/calendar/2365149/budget-hearin
 g-virtual
DTSTART:20200922T000000Z
DTEND:20200922T000500Z
END:VEVENT
END:VCALENDAR
