BEGIN:VCALENDAR
VERSION:2.0
PRODID:SchoolNow
CALSCALE:GREGORIAN
BEGIN:VEVENT
UID:cc42dcf8-d8e2-11ea-a63c-0ab6a254baf7
DTSTAMP:20200819T191701Z
SUMMARY:Special Board of Education Meeting\, Virtual
URL;VALUE=URI:https://www.district90.org/boe/calendar/2302359/special-board
 -of-education-meeting-virtual
DTSTART:20200810T230000Z
DTEND:20200811T013000Z
END:VEVENT
END:VCALENDAR
