BEGIN:VCALENDAR
VERSION:2.0
PRODID:SchoolNow
CALSCALE:GREGORIAN
BEGIN:VEVENT
UID:1facc498-c57a-11ea-9c99-0a340a64e093
DTSTAMP:20200819T191321Z
SUMMARY:Budget Committee Meeting
URL;VALUE=URI:https://www.district90.org/boe/calendar/2277895/budget-commit
 tee-meeting
DTSTART:20200720T230000Z
DTEND:20200720T233000Z
END:VEVENT
END:VCALENDAR
