BEGIN:VCALENDAR
VERSION:2.0
PRODID:SchoolNow
CALSCALE:GREGORIAN
BEGIN:VEVENT
UID:ccc4a3fc-c13e-11ea-a7fa-0acffdacdfe9
DTSTAMP:20201216T224536Z
SUMMARY:Committee of the Whole Meeting\, Virtual
URL;VALUE=URI:https://www.district90.org/boe/calendar/2274250/committee-of-
 the-whole-meeting-virtual
DTSTART:20201202T010000Z
DTEND:20201202T033000Z
END:VEVENT
END:VCALENDAR
