BEGIN:VCALENDAR
VERSION:2.0
PRODID:SchoolNow
CALSCALE:GREGORIAN
BEGIN:VEVENT
UID:f0c8cfd6-c13d-11ea-95a6-120bde75502f
DTSTAMP:20201216T224628Z
SUMMARY:Board of Education Meeting\, Virtual
URL;VALUE=URI:https://www.district90.org/boe/calendar/2274242/board-of-educ
 ation-meeting-virtual
DTSTART:20201117T010000Z
DTEND:20201117T033000Z
END:VEVENT
END:VCALENDAR
