BEGIN:VCALENDAR
VERSION:2.0
PRODID:SchoolNow
CALSCALE:GREGORIAN
BEGIN:VEVENT
UID:82f96ccc-c13d-11ea-b143-0a0f894045db
DTSTAMP:20201119T182303Z
SUMMARY:Board of Education Meeting\, Virtual
URL;VALUE=URI:https://www.district90.org/boe/calendar/2274238/board-of-educ
 ation-meeting-virtual
DTSTART:20201020T000000Z
DTEND:20201020T010000Z
END:VEVENT
END:VCALENDAR
