BEGIN:VCALENDAR
VERSION:2.0
PRODID:SchoolNow
CALSCALE:GREGORIAN
BEGIN:VEVENT
UID:1ffcaa68-c13c-11ea-8226-0acffdacdfe9
DTSTAMP:20201119T182159Z
SUMMARY:Board of Education Meeting\, Virtual
URL;VALUE=URI:https://www.district90.org/boe/calendar/2274179/board-of-educ
 ation-meeting-virtual
DTSTART:20200922T000000Z
DTEND:20200922T013000Z
END:VEVENT
END:VCALENDAR
