BEGIN:VCALENDAR
VERSION:2.0
PRODID:SchoolNow
CALSCALE:GREGORIAN
BEGIN:VEVENT
UID:0234aab8-aeb7-11ea-9617-121f3c1c4ec1
DTSTAMP:20200923T205213Z
SUMMARY:Board of Education Meeting\, Virtual
URL;VALUE=URI:https://www.district90.org/boe/calendar/2261254/board-of-educ
 ation-meeting-virtual
DTSTART:20200817T230000Z
DTEND:20200818T003000Z
END:VEVENT
END:VCALENDAR
