BEGIN:VCALENDAR
VERSION:2.0
PRODID:SchoolNow
CALSCALE:GREGORIAN
BEGIN:VEVENT
UID:8298ff2a-aeb6-11ea-a03f-12bfa330399b
DTSTAMP:20201021T174050Z
SUMMARY:Committee of the Whole Meeting\, Virtual
URL;VALUE=URI:https://www.district90.org/boe/calendar/2261252/committee-of-
 the-whole-meeting-virtual
DTSTART:20201007T000000Z
DTEND:20201007T013000Z
END:VEVENT
END:VCALENDAR
