BEGIN:VCALENDAR
VERSION:2.0
PRODID:SchoolNow
CALSCALE:GREGORIAN
BEGIN:VEVENT
UID:dd54121a-6924-11ea-b083-0a1595a53aa5
DTSTAMP:20200318T142924Z
SUMMARY:Board of Education Meeting\, Roosevelt MPR
URL;VALUE=URI:https://www.district90.org/boe/calendar/2221160/board-of-educ
 ation-meeting-roosevelt-mpr
DTSTART:20200219T010000Z
DTEND:20200219T023000Z
END:VEVENT
END:VCALENDAR
